Workbook

Sheet กรุณากรอกข้อมูล
F10: รหัสวิชา
F11: ชื่อวิชา
F12: ชั้นมัธยมศึกษาปีที่
F13: ภาคเรียน
F14: ปีการศึกษา
F15: ชื่อครูผู้สอน
F16: กลุ่มสาระ
F19: หน่วยการเรียนรู้ | G19: ชื่อหน่วยการเรียนรู้ | H19: จำนวนแผน
F20: หน่วยการเรียนรู้ที่ 1
F21: หน่วยการเรียนรู้ที่ 2
F22: หน่วยการเรียนรู้ที่ 3
F23: หน่วยการเรียนรู้ที่ 4
F24: หน่วยการเรียนรู้ที่ 5
F25: หน่วยการเรียนรู้ที่ 6
F26: หน่วยการเรียนรู้ที่ 7
F27: หน่วยการเรียนรู้ที่ 8

Sheet ปก
A10: รายงานผลการประเมินหน่วยและแผนการจัดการเรียนรู้
A12: ="รหัสวิชา"&" "& กรุณากรอกข้อมูล!G10&" "&"รายวิชา"&" "&กรุณากรอกข้อมูล!G11 -> รหัสวิชา รายวิชา
A13: ="ชั้นมัธยมศึกษาปีที่"&" "&กรุณากรอกข้อมูล!G12 -> ชั้นมัธยมศึกษาปีที่
A14: ="ภาคเรียนที่"&" "&กรุณากรอกข้อมูล!G13&" "&"ปีการศึกษา"&" "&กรุณากรอกข้อมูล!G14 -> ภาคเรียนที่ ปีการศึกษา
A24: ของ
A26: =กรุณากรอกข้อมูล!G15 -> 0
A27: ="กลุ่มสาระการเรียนรู้"&กรุณากรอกข้อมูล!G16 -> กลุ่มสาระการเรียนรู้
A38: โรงเรียนปทุมคงคา สมุทรปราการ
A39: อำเภอเมือง จังหวัดสมุทรปราการ
A40: สำนักงานเขตพื้นที่การศึกษามัธยมศึกษาสมุทรปราการ
A41: สำนักงานคณะกรรมการการศึกษาขั้นพื้นฐาน กระทรวงศึกษาธิการ

Sheet คำนำ
C9: ="รายงานการประเมินผลการจัดทำหน่วยการเรียนรู้ รหัสวิชา"&" "&กรุณากรอกข้อมูล!G10 -> รายงานการประเมินผลการจัดทำหน่วยการเรียนรู้ รหัสวิชา
A10: =" "&"รายวิชา"&" "&กรุณากรอกข้อมูล!G11&" "&"ชั้นมัธยมศึกษาปีที่"&" "&กรุณากรอกข้อมูล!G12&" "&"ภาคเรียนที่"&" "&กรุณากรอกข้อมูล!G13&" "&"ปีการศึกษา"&" "&กรุณากรอกข้อมูล!G14&" "&"เป็นการประเมินผล" -> รายวิชา ชั้นมัธยมศึกษาปีที่ ภาคเรียนที่ ปีการศึกษา เป็นการประเมินผล
E15: =กรุณากรอกข้อมูล!G15 -> 0

Sheet หน่วย1
A4: แบบประเมินหน่วยและแผนการจัดการเรียนรู้ (ตนเองประเมิน)
A5: โรงเรียนปทุมคงคา สมุทรปราการ
A6: ="หน่วยการเรียนรู้ที่"&" "&"1"&" "&"ชื่อหน่วย"&" "&กรุณากรอกข้อมูล!G20&" "&"จำนวน"&" "&กรุณากรอกข้อมูล!H20&" "&"แผน" -> หน่วยการเรียนรู้ที่ 1 ชื่อหน่วย จำนวน แผน
A7: ="รหัสวิชา"&" "&กรุณากรอกข้อมูล!G10&" "&"ชื่อวิชา"&" "&กรุณากรอกข้อมูล!G11&" "&" "&"ชั้นมัธยมศึกษาปีที่"&" "&กรุณากรอกข้อมูล!G12 -> รหัสวิชา ชื่อวิชา ชั้นมัธยมศึกษาปีที่
A8: ="ผู้สอน"&" "&กรุณากรอกข้อมูล!G15&" "&"กลุ่มสาระการเรียนรู้"&" "&กรุณากรอกข้อมูล!G16 -> ผู้สอน กลุ่มสาระการเรียนรู้
A10: คำชี้แจง โปรดใส่หมายเลข "1" ให้ตรงกับระดับการปฏิบัติตามรายการประเมินแต่ละข้อให้ครบถ้วนเพียงระดับการปฏิบัติเดียว
A11: โดยระดับปฏิบัติการ 4 = มากที่สุด , 3 = มาก , 2 = ปานกลาง และ 1 = น้อย
A12: ที่ | B12: รายการประเมิน | C12: ระดับการปฏิบัติ | G12: คะแนนที่ได้
C13: 4 | D13: 3 | E13: 2 | F13: 1
A14: 1 | B14: ชื่อหน่วยการเรียนรู้กะทัดรัด ชัดเจน ครอบคลุมเนื้อหาสาระ | C14: ü | G14: =COUNTA(C14)*$C$13+COUNTA(D14)*$D$13+COUNTA(E14)*$E$13+COUNTA(F14)*$F$13 -> 4
A15: 2 | B15: มาตรฐานการเรียนรู้/ตัวชี้วัด สมรรถนะสำคัญของนักเรียนและ | C15: ü | G15: =COUNTA(C15)*$C$13+COUNTA(D15)*$D$13+COUNTA(E15)*$E$13+COUNTA(F15)*$F$13 -> 4
B16: คุณลักษณะอันพึงประสงค์ มีความเชื่อมโยงกันอย่างเหมาะสม
A17: 3 | B17: ความสอดคล้องของสาระสำคัญกับมาตรฐานการเรียนรู้และตัวชี้วัด | C17: ü | G17: =COUNTA(C17)*$C$13+COUNTA(D17)*$D$13+COUNTA(E17)*$E$13+COUNTA(F17)*$F$13 -> 4
A18: 4 | B18: ความสอดคล้องของสาระสำคัญกับสาระการเรียนรู้ | C18: ü | G18: =COUNTA(C18)*$C$13+COUNTA(D18)*$D$13+COUNTA(E18)*$E$13+COUNTA(F18)*$F$13 -> 4
A19: 5 | B19: ความเชื่อมโยงสัมพันธ์กันระหว่างชื่อหน่วยการเรียนรู้ มาตรฐานการเรียนรู้ | C19: ü | G19: =COUNTA(C19)*$C$13+COUNTA(D19)*$D$13+COUNTA(E19)*$E$13+COUNTA(F19)*$F$13 -> 4
B20: ตัวชี้วัด สาระสำคัญและสาระการเรียนรู้
A21: 6 | B21: กิจกรรมการเรียนรู้สอดคล้องกับสาระการเรียนรู้ มาตรฐานการเรียนรู้และตัวชี้วัด | C21: ü | G21: =COUNTA(C21)*$C$13+COUNTA(D21)*$D$13+COUNTA(E21)*$E$13+COUNTA(F21)*$F$13 -> 4
A22: 7 | B22: กิจกรรมการเรียนรู้มีความครอบคลุมในการพัฒนาผู้เรียนให้มีความรู้ ทักษะ | C22: ü | G22: =COUNTA(C22)*$C$13+COUNTA(D22)*$D$13+COUNTA(E22)*$E$13+COUNTA(F22)*$F$13 -> 4
B23: กระบวนการและคุณลักษณะที่พึงประสงค์
A24: 8 | B24: กิจกรรมการเรียนรู้สามารถนำผู้เรียนไปสู่การสร้างชิ้นงานหรือภาระงาน | C24: ü | G24: =COUNTA(C24)*$C$13+COUNTA(D24)*$D$13+COUNTA(E24)*$E$13+COUNTA(F24)*$F$13 -> 4
A25: 9 | B25: มีการประเมินผลตามสภาพจริงและสอดคล้องกับมาตรฐานการเรียนรู้และตัวชี้วัด | C25: ü | G25: =COUNTA(C25)*$C$13+COUNTA(D25)*$D$13+COUNTA(E25)*$E$13+COUNTA(F25)*$F$13 -> 4
A26: 10 | B26: ประเด็นและเกณฑ์การประเมินสามารถสะท้อนคุณภาพผู้เรียนตามมาตรฐาน | C26: ü | G26: =COUNTA(C26)*$C$13+COUNTA(D26)*$D$13+COUNTA(E26)*$E$13+COUNTA(F26)*$F$13 -> 4
B27: การเรียนรู้และตัวชี้วัด
A28: 11 | B28: ความเหมาะสม เพียงพอในการกำหนดสื่อการเรียนรู้ | D28: ü | G28: =COUNTA(C28)*$C$13+COUNTA(D28)*$D$13+COUNTA(E28)*$E$13+COUNTA(F28)*$F$13 -> 3
A29: 12 | B29: หน่วยการเรียนรู้ที่จัดทำสามารถนำไปปฏิบัติได้จริง | C29: ü | G29: =COUNTA(C29)*$C$13+COUNTA(D29)*$D$13+COUNTA(E29)*$E$13+COUNTA(F29)*$F$13 -> 4
A30: สรุปผล | C30: =IF(G30>44,"ดีมาก",IF(G30>39,"ดี",IF(G30>30,"พอใช้",IF(G30>0,"ปรับปรุง")))) -> ดีมาก | G30: =SUM(G14:G29) -> 47
A39: แบบประเมินหน่วยและแผนการจัดการเรียนรู้ (หลักสูตรกลุ่มสาระประเมิน)
A40: โรงเรียนปทุมคงคา สมุทรปราการ
A41: ="หน่วยการเรียนรู้ที่"&" "&"1"&" "&"ชื่อหน่วย"&" "&กรุณากรอกข้อมูล!G20&" "&"จำนวน"&" "&กรุณากรอกข้อมูล!H20&" "&"แผน" -> หน่วยการเรียนรู้ที่ 1 ชื่อหน่วย จำนวน แผน
A42: ="รหัสวิชา"&" "&กรุณากรอกข้อมูล!G10&" "&"ชื่อวิชา"&" "&กรุณากรอกข้อมูล!G11&" "&" "&"ชั้นมัธยมศึกษาปีที่"&" "&กรุณากรอกข้อมูล!G12 -> รหัสวิชา ชื่อวิชา ชั้นมัธยมศึกษาปีที่
A43: ="ผู้สอน"&" "&กรุณากรอกข้อมูล!G15&" "&"กลุ่มสาระการเรียนรู้"&" "&กรุณากรอกข้อมูล!G16 -> ผู้สอน กลุ่มสาระการเรียนรู้
A45: คำชี้แจง โปรดใส่หมายเลข "1" ให้ตรงกับระดับการปฏิบัติตามรายการประเมินแต่ละข้อให้ครบถ้วนเพียงระดับการปฏิบัติเดียว
A46: โดยระดับปฏิบัติการ 4 = มากที่สุด , 3 = มาก , 2 = ปานกลาง และ 1 = น้อย
A47: ที่ | B47: รายการประเมิน | C47: ระดับการปฏิบัติ | G47: คะแนนที่ได้
C48: 4 | D48: 3 | E48: 2 | F48: 1
A49: 1 | B49: ชื่อหน่วยการเรียนรู้กะทัดรัด ชัดเจน ครอบคลุมเนื้อหาสาระ | C49: ü | G49: =COUNTA(C49)*$C$13+COUNTA(D49)*$D$13+COUNTA(E49)*$E$13+COUNTA(F49)*$F$13 -> 4
A50: 2 | B50: มาตรฐานการเรียนรู้/ตัวชี้วัด สมรรถนะสำคัญของนักเรียนและ | C50: ü | G50: =COUNTA(C50)*$C$13+COUNTA(D50)*$D$13+COUNTA(E50)*$E$13+COUNTA(F50)*$F$13 -> 4
B51: คุณลักษณะอันพึงประสงค์ มีความเชื่อมโยงกันอย่างเหมาะสม
A52: 3 | B52: ความสอดคล้องของสาระสำคัญกับมาตรฐานการเรียนรู้และตัวชี้วัด | C52: ü | G52: =COUNTA(C52)*$C$13+COUNTA(D52)*$D$13+COUNTA(E52)*$E$13+COUNTA(F52)*$F$13 -> 4
A53: 4 | B53: ความสอดคล้องของสาระสำคัญกับสาระการเรียนรู้ | C53: ü | G53: =COUNTA(C53)*$C$13+COUNTA(D53)*$D$13+COUNTA(E53)*$E$13+COUNTA(F53)*$F$13 -> 4
...

Sheet หน่วย2
A4: แบบประเมินหน่วยและแผนการจัดการเรียนรู้ (ตนเองประเมิน)
A5: โรงเรียนปทุมคงคา สมุทรปราการ
A6: ="หน่วยการเรียนรู้ที่"&" "&"2"&" "&"ชื่อหน่วย"&" "&กรุณากรอกข้อมูล!G21&" "&"จำนวน"&" "&กรุณากรอกข้อมูล!H21&" "&"แผน" -> หน่วยการเรียนรู้ที่ 2 ชื่อหน่วย จำนวน แผน
A7: ="รหัสวิชา"&" "&กรุณากรอกข้อมูล!G10&" "&"ชื่อวิชา"&" "&กรุณากรอกข้อมูล!G11&" "&" "&"ชั้นมัธยมศึกษาปีที่"&" "&กรุณากรอกข้อมูล!G12 -> รหัสวิชา ชื่อวิชา ชั้นมัธยมศึกษาปีที่
A8: ="ผู้สอน"&" "&กรุณากรอกข้อมูล!G15&" "&"กลุ่มสาระการเรียนรู้"&" "&กรุณากรอกข้อมูล!G16 -> ผู้สอน กลุ่มสาระการเรียนรู้
A10: คำชี้แจง โปรดใส่หมายเลข "1" ให้ตรงกับระดับการปฏิบัติตามรายการประเมินแต่ละข้อให้ครบถ้วนเพียงระดับการปฏิบัติเดียว
A11: โดยระดับปฏิบัติการ 4 = มากที่สุด , 3 = มาก , 2 = ปานกลาง และ 1 = น้อย
A12: ที่ | B12: รายการประเมิน | C12: ระดับการปฏิบัติ | G12: คะแนนที่ได้
C13: 4 | D13: 3 | E13: 2 | F13: 1
A14: 1 | B14: ชื่อหน่วยการเรียนรู้กะทัดรัด ชัดเจน ครอบคลุมเนื้อหาสาระ | C14: ü | G14: =COUNTA(C14)*$C$13+COUNTA(D14)*$D$13+COUNTA(E14)*$E$13+COUNTA(F14)*$F$13 -> 4
A15: 2 | B15: มาตรฐานการเรียนรู้/ตัวชี้วัด สมรรถนะสำคัญของนักเรียนและ | C15: ü | G15: =COUNTA(C15)*$C$13+COUNTA(D15)*$D$13+COUNTA(E15)*$E$13+COUNTA(F15)*$F$13 -> 4
B16: คุณลักษณะอันพึงประสงค์ มีความเชื่อมโยงกันอย่างเหมาะสม
A17: 3 | B17: ความสอดคล้องของสาระสำคัญกับมาตรฐานการเรียนรู้และตัวชี้วัด | D17: ü | G17: 3
A18: 4 | B18: ความสอดคล้องของสาระสำคัญกับสาระการเรียนรู้ | C18: ü | G18: =COUNTA(C18)*$C$13+COUNTA(D18)*$D$13+COUNTA(E18)*$E$13+COUNTA(F18)*$F$13 -> 4
A19: 5 | B19: ความเชื่อมโยงสัมพันธ์กันระหว่างชื่อหน่วยการเรียนรู้ มาตรฐานการเรียนรู้ | D19: ü | G19: =COUNTA(C19)*$C$13+COUNTA(D19)*$D$13+COUNTA(E19)*$E$13+COUNTA(F19)*$F$13 -> 3
B20: ตัวชี้วัด สาระสำคัญและสาระการเรียนรู้
A21: 6 | B21: กิจกรรมการเรียนรู้สอดคล้องกับสาระการเรียนรู้ มาตรฐานการเรียนรู้และตัวชี้วัด | C21: ü | G21: =COUNTA(C21)*$C$13+COUNTA(D21)*$D$13+COUNTA(E21)*$E$13+COUNTA(F21)*$F$13 -> 4
A22: 7 | B22: กิจกรรมการเรียนรู้มีความครอบคลุมในการพัฒนาผู้เรียนให้มีความรู้ ทักษะ | C22: ü | G22: =COUNTA(C22)*$C$13+COUNTA(D22)*$D$13+COUNTA(E22)*$E$13+COUNTA(F22)*$F$13 -> 4
B23: กระบวนการและคุณลักษณะที่พึงประสงค์
A24: 8 | B24: กิจกรรมการเรียนรู้สามารถนำผู้เรียนไปสู่การสร้างชิ้นงานหรือภาระงาน | C24: ü | G24: =COUNTA(C24)*$C$13+COUNTA(D24)*$D$13+COUNTA(E24)*$E$13+COUNTA(F24)*$F$13 -> 4
A25: 9 | B25: มีการประเมินผลตามสภาพจริงและสอดคล้องกับมาตรฐานการเรียนรู้และตัวชี้วัด | C25: ü | G25: =COUNTA(C25)*$C$13+COUNTA(D25)*$D$13+COUNTA(E25)*$E$13+COUNTA(F25)*$F$13 -> 4
A26: 10 | B26: ประเด็นและเกณฑ์การประเมินสามารถสะท้อนคุณภาพผู้เรียนตามมาตรฐาน | C26: ü | G26: =COUNTA(C26)*$C$13+COUNTA(D26)*$D$13+COUNTA(E26)*$E$13+COUNTA(F26)*$F$13 -> 4
B27: การเรียนรู้และตัวชี้วัด
A28: 11 | B28: ความเหมาะสม เพียงพอในการกำหนดสื่อการเรียนรู้ | C28: ü | G28: =COUNTA(C28)*$C$13+COUNTA(D28)*$D$13+COUNTA(E28)*$E$13+COUNTA(F28)*$F$13 -> 4
A29: 12 | B29: หน่วยการเรียนรู้ที่จัดทำสามารถนำไปปฏิบัติได้จริง | C29: ü | G29: =COUNTA(C29)*$C$13+COUNTA(D29)*$D$13+COUNTA(E29)*$E$13+COUNTA(F29)*$F$13 -> 4
A30: สรุปผล | C30: =IF(G30>44,"ดีมาก",IF(G30>39,"ดี",IF(G30>30,"พอใช้",IF(G30>0,"ปรับปรุง")))) -> ดีมาก | G30: =SUM(G14:G29) -> 46
A42: แบบประเมินหน่วยและแผนการจัดการเรียนรู้ (หลักสูตรกลุ่มสาระประเมิน)
A43: โรงเรียนปทุมคงคา สมุทรปราการ
A44: =A6 -> หน่วยการเรียนรู้ที่ 2 ชื่อหน่วย จำนวน แผน
A45: =A7 -> รหัสวิชา ชื่อวิชา ชั้นมัธยมศึกษาปีที่
A46: =A8 -> ผู้สอน กลุ่มสาระการเรียนรู้
A48: คำชี้แจง โปรดใส่หมายเลข "1" ให้ตรงกับระดับการปฏิบัติตามรายการประเมินแต่ละข้อให้ครบถ้วนเพียงระดับการปฏิบัติเดียว
A49: โดยระดับปฏิบัติการ 4 = มากที่สุด , 3 = มาก , 2 = ปานกลาง และ 1 = น้อย
A50: ที่ | B50: รายการประเมิน | C50: ระดับการปฏิบัติ | G50: คะแนนที่ได้
C51: 4 | D51: 3 | E51: 2 | F51: 1
A52: 1 | B52: ชื่อหน่วยการเรียนรู้กะทัดรัด ชัดเจน ครอบคลุมเนื้อหาสาระ | C52: ü | G52: =COUNTA(C52)*$C$13+COUNTA(D52)*$D$13+COUNTA(E52)*$E$13+COUNTA(F52)*$F$13 -> 4
A53: 2 | B53: มาตรฐานการเรียนรู้/ตัวชี้วัด สมรรถนะสำคัญของนักเรียนและ | C53: ü | G53: =COUNTA(C53)*$C$13+COUNTA(D53)*$D$13+COUNTA(E53)*$E$13+COUNTA(F53)*$F$13 -> 4
B54: คุณลักษณะอันพึงประสงค์ มีความเชื่อมโยงกันอย่างเหมาะสม
A55: 3 | B55: ความสอดคล้องของสาระสำคัญกับมาตรฐานการเรียนรู้และตัวชี้วัด | C55: ü | G55: =COUNTA(C55)*$C$13+COUNTA(D55)*$D$13+COUNTA(E55)*$E$13+COUNTA(F55)*$F$13 -> 4
A56: 4 | B56: ความสอดคล้องของสาระสำคัญกับสาระการเรียนรู้ | C56: ü | G56: =COUNTA(C56)*$C$13+COUNTA(D56)*$D$13+COUNTA(E56)*$E$13+COUNTA(F56)*$F$13 -> 4
...

Sheet หน่วย3
A4: แบบประเมินหน่วยและแผนการจัดการเรียนรู้ (ตนเองประเมิน)
A5: โรงเรียนปทุมคงคา สมุทรปราการ
A6: ="หน่วยการเรียนรู้ที่"&" "&"3"&" "&"ชื่อหน่วย"&" "&กรุณากรอกข้อมูล!G22&" "&"จำนวน"&" "&กรุณากรอกข้อมูล!H22&" "&"แผน" -> หน่วยการเรียนรู้ที่ 3 ชื่อหน่วย จำนวน แผน
A7: ="รหัสวิชา"&" "&กรุณากรอกข้อมูล!G10&" "&"ชื่อวิชา"&" "&กรุณากรอกข้อมูล!G11&" "&" "&"ชั้นมัธยมศึกษาปีที่"&" "&กรุณากรอกข้อมูล!G12 -> รหัสวิชา ชื่อวิชา ชั้นมัธยมศึกษาปีที่
A8: ="ผู้สอน"&" "&กรุณากรอกข้อมูล!G15&" "&"กลุ่มสาระการเรียนรู้"&" "&กรุณากรอกข้อมูล!G16 -> ผู้สอน กลุ่มสาระการเรียนรู้
A10: คำชี้แจง โปรดใส่หมายเลข "1" ให้ตรงกับระดับการปฏิบัติตามรายการประเมินแต่ละข้อให้ครบถ้วนเพียงระดับการปฏิบัติเดียว
A11: โดยระดับปฏิบัติการ 4 = มากที่สุด , 3 = มาก , 2 = ปานกลาง และ 1 = น้อย
A12: ที่ | B12: รายการประเมิน | C12: ระดับการปฏิบัติ | G12: คะแนนที่ได้
C13: 4 | D13: 3 | E13: 2 | F13: 1
A14: 1 | B14: ชื่อหน่วยการเรียนรู้กะทัดรัด ชัดเจน ครอบคลุมเนื้อหาสาระ | D14: ü | G14: =COUNTA(C14)*$C$13+COUNTA(D14)*$D$13+COUNTA(E14)*$E$13+COUNTA(F14)*$F$13 -> 3
A15: 2 | B15: มาตรฐานการเรียนรู้/ตัวชี้วัด สมรรถนะสำคัญของนักเรียนและ | C15: ü | G15: =COUNTA(C15)*$C$13+COUNTA(D15)*$D$13+COUNTA(E15)*$E$13+COUNTA(F15)*$F$13 -> 4
B16: คุณลักษณะอันพึงประสงค์ มีความเชื่อมโยงกันอย่างเหมาะสม
A17: 3 | B17: ความสอดคล้องของสาระสำคัญกับมาตรฐานการเรียนรู้และตัวชี้วัด | C17: ü | G17: =COUNTA(C17)*$C$13+COUNTA(D17)*$D$13+COUNTA(E17)*$E$13+COUNTA(F17)*$F$13 -> 4
A18: 4 | B18: ความสอดคล้องของสาระสำคัญกับสาระการเรียนรู้ | C18: ü | G18: =COUNTA(C18)*$C$13+COUNTA(D18)*$D$13+COUNTA(E18)*$E$13+COUNTA(F18)*$F$13 -> 4
A19: 5 | B19: ความเชื่อมโยงสัมพันธ์กันระหว่างชื่อหน่วยการเรียนรู้ มาตรฐานการเรียนรู้ | C19: ü | G19: =COUNTA(C19)*$C$13+COUNTA(D19)*$D$13+COUNTA(E19)*$E$13+COUNTA(F19)*$F$13 -> 4
B20: ตัวชี้วัด สาระสำคัญและสาระการเรียนรู้
A21: 6 | B21: กิจกรรมการเรียนรู้สอดคล้องกับสาระการเรียนรู้ มาตรฐานการเรียนรู้และตัวชี้วัด | D21: ü | G21: =COUNTA(C21)*$C$13+COUNTA(D21)*$D$13+COUNTA(E21)*$E$13+COUNTA(F21)*$F$13 -> 3
A22: 7 | B22: กิจกรรมการเรียนรู้มีความครอบคลุมในการพัฒนาผู้เรียนให้มีความรู้ ทักษะ | C22: ü | G22: =COUNTA(C22)*$C$13+COUNTA(D22)*$D$13+COUNTA(E22)*$E$13+COUNTA(F22)*$F$13 -> 4
B23: กระบวนการและคุณลักษณะที่พึงประสงค์
A24: 8 | B24: กิจกรรมการเรียนรู้สามารถนำผู้เรียนไปสู่การสร้างชิ้นงานหรือภาระงาน | D24: ü | G24: =COUNTA(C24)*$C$13+COUNTA(D24)*$D$13+COUNTA(E24)*$E$13+COUNTA(F24)*$F$13 -> 3
A25: 9 | B25: มีการประเมินผลตามสภาพจริงและสอดคล้องกับมาตรฐานการเรียนรู้และตัวชี้วัด | C25: ü | G25: =COUNTA(C25)*$C$13+COUNTA(D25)*$D$13+COUNTA(E25)*$E$13+COUNTA(F25)*$F$13 -> 4
A26: 10 | B26: ประเด็นและเกณฑ์การประเมินสามารถสะท้อนคุณภาพผู้เรียนตามมาตรฐาน | C26: ü | G26: =COUNTA(C26)*$C$13+COUNTA(D26)*$D$13+COUNTA(E26)*$E$13+COUNTA(F26)*$F$13 -> 4
B27: การเรียนรู้และตัวชี้วัด
A28: 11 | B28: ความเหมาะสม เพียงพอในการกำหนดสื่อการเรียนรู้ | C28: ü | G28: =COUNTA(C28)*$C$13+COUNTA(D28)*$D$13+COUNTA(E28)*$E$13+COUNTA(F28)*$F$13 -> 4
A29: 12 | B29: หน่วยการเรียนรู้ที่จัดทำสามารถนำไปปฏิบัติได้จริง | C29: ü | G29: =COUNTA(C29)*$C$13+COUNTA(D29)*$D$13+COUNTA(E29)*$E$13+COUNTA(F29)*$F$13 -> 4
A30: สรุปผล | C30: =IF(G30>44,"ดีมาก",IF(G30>39,"ดี",IF(G30>30,"พอใช้",IF(G30>0,"ปรับปรุง")))) -> ดีมาก | G30: =SUM(G14:G29) -> 45
A42: แบบประเมินหน่วยและแผนการจัดการเรียนรู้ (หลักสูตรกลุ่มสาระประเมิน)
A43: โรงเรียนปทุมคงคา สมุทรปราการ
A44: =A6 -> หน่วยการเรียนรู้ที่ 3 ชื่อหน่วย จำนวน แผน
A45: =A7 -> รหัสวิชา ชื่อวิชา ชั้นมัธยมศึกษาปีที่
A46: =A8 -> ผู้สอน กลุ่มสาระการเรียนรู้
A48: คำชี้แจง โปรดใส่หมายเลข "1" ให้ตรงกับระดับการปฏิบัติตามรายการประเมินแต่ละข้อให้ครบถ้วนเพียงระดับการปฏิบัติเดียว
A49: โดยระดับปฏิบัติการ 4 = มากที่สุด , 3 = มาก , 2 = ปานกลาง และ 1 = น้อย
A50: ที่ | B50: รายการประเมิน | C50: ระดับการปฏิบัติ | G50: คะแนนที่ได้
C51: 4 | D51: 3 | E51: 2 | F51: 1
A52: 1 | B52: ชื่อหน่วยการเรียนรู้กะทัดรัด ชัดเจน ครอบคลุมเนื้อหาสาระ | C52: ü | G52: =COUNTA(C52)*$C$13+COUNTA(D52)*$D$13+COUNTA(E52)*$E$13+COUNTA(F52)*$F$13 -> 4
A53: 2 | B53: มาตรฐานการเรียนรู้/ตัวชี้วัด สมรรถนะสำคัญของนักเรียนและ | C53: ü | G53: =COUNTA(C53)*$C$13+COUNTA(D53)*$D$13+COUNTA(E53)*$E$13+COUNTA(F53)*$F$13 -> 4
B54: คุณลักษณะอันพึงประสงค์ มีความเชื่อมโยงกันอย่างเหมาะสม
A55: 3 | B55: ความสอดคล้องของสาระสำคัญกับมาตรฐานการเรียนรู้และตัวชี้วัด | C55: ü | G55: =COUNTA(C55)*$C$13+COUNTA(D55)*$D$13+COUNTA(E55)*$E$13+COUNTA(F55)*$F$13 -> 4
A56: 4 | B56: ความสอดคล้องของสาระสำคัญกับสาระการเรียนรู้ | C56: ü | G56: =COUNTA(C56)*$C$13+COUNTA(D56)*$D$13+COUNTA(E56)*$E$13+COUNTA(F56)*$F$13 -> 4
...

Sheet หน่วย4
A4: แบบประเมินหน่วยและแผนการจัดการเรียนรู้ (ตนเองประเมิน)
A5: โรงเรียนปทุมคงคา สมุทรปราการ
A6: ="หน่วยการเรียนรู้ที่"&" "&"4"&" "&"ชื่อหน่วย"&" "&กรุณากรอกข้อมูล!G23&" "&"จำนวน"&" "&กรุณากรอกข้อมูล!H23&" "&"แผน" -> หน่วยการเรียนรู้ที่ 4 ชื่อหน่วย จำนวน แผน
A7: ="รหัสวิชา"&" "&กรุณากรอกข้อมูล!G10&" "&"ชื่อวิชา"&" "&กรุณากรอกข้อมูล!G11&" "&" "&"ชั้นมัธยมศึกษาปีที่"&" "&กรุณากรอกข้อมูล!G12 -> รหัสวิชา ชื่อวิชา ชั้นมัธยมศึกษาปีที่
A8: ="ผู้สอน"&" "&กรุณากรอกข้อมูล!G15&" "&"กลุ่มสาระการเรียนรู้"&" "&กรุณากรอกข้อมูล!G16 -> ผู้สอน กลุ่มสาระการเรียนรู้
A10: คำชี้แจง โปรดใส่หมายเลข "1" ให้ตรงกับระดับการปฏิบัติตามรายการประเมินแต่ละข้อให้ครบถ้วนเพียงระดับการปฏิบัติเดียว
A11: โดยระดับปฏิบัติการ 4 = มากที่สุด , 3 = มาก , 2 = ปานกลาง และ 1 = น้อย
A12: ที่ | B12: รายการประเมิน | C12: ระดับการปฏิบัติ | G12: คะแนนที่ได้
C13: 4 | D13: 3 | E13: 2 | F13: 1
A14: 1 | B14: ชื่อหน่วยการเรียนรู้กะทัดรัด ชัดเจน ครอบคลุมเนื้อหาสาระ | C14: ü | G14: =COUNTA(C14)*$C$13+COUNTA(D14)*$D$13+COUNTA(E14)*$E$13+COUNTA(F14)*$F$13 -> 4
A15: 2 | B15: มาตรฐานการเรียนรู้/ตัวชี้วัด สมรรถนะสำคัญของนักเรียนและ | C15: ü | G15: =COUNTA(C15)*$C$13+COUNTA(D15)*$D$13+COUNTA(E15)*$E$13+COUNTA(F15)*$F$13 -> 4
B16: คุณลักษณะอันพึงประสงค์ มีความเชื่อมโยงกันอย่างเหมาะสม
A17: 3 | B17: ความสอดคล้องของสาระสำคัญกับมาตรฐานการเรียนรู้และตัวชี้วัด | C17: ü | G17: =COUNTA(C17)*$C$13+COUNTA(D17)*$D$13+COUNTA(E17)*$E$13+COUNTA(F17)*$F$13 -> 4
A18: 4 | B18: ความสอดคล้องของสาระสำคัญกับสาระการเรียนรู้ | C18: ü | G18: =COUNTA(C18)*$C$13+COUNTA(D18)*$D$13+COUNTA(E18)*$E$13+COUNTA(F18)*$F$13 -> 4
A19: 5 | B19: ความเชื่อมโยงสัมพันธ์กันระหว่างชื่อหน่วยการเรียนรู้ มาตรฐานการเรียนรู้ | C19: ü | G19: =COUNTA(C19)*$C$13+COUNTA(D19)*$D$13+COUNTA(E19)*$E$13+COUNTA(F19)*$F$13 -> 4
B20: ตัวชี้วัด สาระสำคัญและสาระการเรียนรู้
A21: 6 | B21: กิจกรรมการเรียนรู้สอดคล้องกับสาระการเรียนรู้ มาตรฐานการเรียนรู้และตัวชี้วัด | C21: ü | G21: =COUNTA(C21)*$C$13+COUNTA(D21)*$D$13+COUNTA(E21)*$E$13+COUNTA(F21)*$F$13 -> 4
A22: 7 | B22: กิจกรรมการเรียนรู้มีความครอบคลุมในการพัฒนาผู้เรียนให้มีความรู้ ทักษะ | C22: ü | G22: =COUNTA(C22)*$C$13+COUNTA(D22)*$D$13+COUNTA(E22)*$E$13+COUNTA(F22)*$F$13 -> 4
B23: กระบวนการและคุณลักษณะที่พึงประสงค์
A24: 8 | B24: กิจกรรมการเรียนรู้สามารถนำผู้เรียนไปสู่การสร้างชิ้นงานหรือภาระงาน | D24: ü | G24: =COUNTA(C24)*$C$13+COUNTA(D24)*$D$13+COUNTA(E24)*$E$13+COUNTA(F24)*$F$13 -> 3
A25: 9 | B25: มีการประเมินผลตามสภาพจริงและสอดคล้องกับมาตรฐานการเรียนรู้และตัวชี้วัด | C25: ü | G25: =COUNTA(C25)*$C$13+COUNTA(D25)*$D$13+COUNTA(E25)*$E$13+COUNTA(F25)*$F$13 -> 4
A26: 10 | B26: ประเด็นและเกณฑ์การประเมินสามารถสะท้อนคุณภาพผู้เรียนตามมาตรฐาน | C26: ü | G26: =COUNTA(C26)*$C$13+COUNTA(D26)*$D$13+COUNTA(E26)*$E$13+COUNTA(F26)*$F$13 -> 4
B27: การเรียนรู้และตัวชี้วัด
A28: 11 | B28: ความเหมาะสม เพียงพอในการกำหนดสื่อการเรียนรู้ | C28: ü | G28: =COUNTA(C28)*$C$13+COUNTA(D28)*$D$13+COUNTA(E28)*$E$13+COUNTA(F28)*$F$13 -> 4
A29: 12 | B29: หน่วยการเรียนรู้ที่จัดทำสามารถนำไปปฏิบัติได้จริง | C29: ü | G29: =COUNTA(C29)*$C$13+COUNTA(D29)*$D$13+COUNTA(E29)*$E$13+COUNTA(F29)*$F$13 -> 4
A30: สรุปผล | C30: =IF(G30>44,"ดีมาก",IF(G30>39,"ดี",IF(G30>30,"พอใช้",IF(G30>0,"ปรับปรุง")))) -> ดีมาก | G30: =SUM(G14:G29) -> 47
A38: แบบประเมินหน่วยและแผนการจัดการเรียนรู้ (หลักสูตรกลุ่มสาระประเมิน)
A39: โรงเรียนปทุมคงคา สมุทรปราการ
A40: =A6 -> หน่วยการเรียนรู้ที่ 4 ชื่อหน่วย จำนวน แผน
A41: =A7 -> รหัสวิชา ชื่อวิชา ชั้นมัธยมศึกษาปีที่
A42: =A8 -> ผู้สอน กลุ่มสาระการเรียนรู้
A44: คำชี้แจง โปรดใส่หมายเลข "1" ให้ตรงกับระดับการปฏิบัติตามรายการประเมินแต่ละข้อให้ครบถ้วนเพียงระดับการปฏิบัติเดียว
A45: โดยระดับปฏิบัติการ 4 = มากที่สุด , 3 = มาก , 2 = ปานกลาง และ 1 = น้อย
A46: ที่ | B46: รายการประเมิน | C46: ระดับการปฏิบัติ | G46: คะแนนที่ได้
C47: 4 | D47: 3 | E47: 2 | F47: 1
A48: 1 | B48: ชื่อหน่วยการเรียนรู้กะทัดรัด ชัดเจน ครอบคลุมเนื้อหาสาระ | C48: ü | G48: =COUNTA(C48)*$C$13+COUNTA(D48)*$D$13+COUNTA(E48)*$E$13+COUNTA(F48)*$F$13 -> 4
A49: 2 | B49: มาตรฐานการเรียนรู้/ตัวชี้วัด สมรรถนะสำคัญของนักเรียนและ | D49: ü | G49: =COUNTA(C49)*$C$13+COUNTA(D49)*$D$13+COUNTA(E49)*$E$13+COUNTA(F49)*$F$13 -> 3
B50: คุณลักษณะอันพึงประสงค์ มีความเชื่อมโยงกันอย่างเหมาะสม
A51: 3 | B51: ความสอดคล้องของสาระสำคัญกับมาตรฐานการเรียนรู้และตัวชี้วัด | C51: ü | G51: =COUNTA(C51)*$C$13+COUNTA(D51)*$D$13+COUNTA(E51)*$E$13+COUNTA(F51)*$F$13 -> 4
A52: 4 | B52: ความสอดคล้องของสาระสำคัญกับสาระการเรียนรู้ | D52: ü | G52: =COUNTA(C52)*$C$13+COUNTA(D52)*$D$13+COUNTA(E52)*$E$13+COUNTA(F52)*$F$13 -> 3
...

Sheet หน่วย5
A4: แบบประเมินหน่วยและแผนการจัดการเรียนรู้ (ตนเองประเมิน)
A5: โรงเรียนปทุมคงคา สมุทรปราการ
A6: ="หน่วยการเรียนรู้ที่"&" "&"5"&" "&"ชื่อหน่วย"&" "&กรุณากรอกข้อมูล!G24&" "&"จำนวน"&" "&กรุณากรอกข้อมูล!H24&" "&"แผน" -> หน่วยการเรียนรู้ที่ 5 ชื่อหน่วย จำนวน แผน
A7: ="รหัสวิชา"&" "&กรุณากรอกข้อมูล!G10&" "&"ชื่อวิชา"&" "&กรุณากรอกข้อมูล!G11&" "&" "&"ชั้นมัธยมศึกษาปีที่"&" "&กรุณากรอกข้อมูล!G12 -> รหัสวิชา ชื่อวิชา ชั้นมัธยมศึกษาปีที่
A8: ="ผู้สอน"&" "&กรุณากรอกข้อมูล!G15&" "&"กลุ่มสาระการเรียนรู้"&" "&กรุณากรอกข้อมูล!G16 -> ผู้สอน กลุ่มสาระการเรียนรู้
A10: คำชี้แจง โปรดใส่หมายเลข "1" ให้ตรงกับระดับการปฏิบัติตามรายการประเมินแต่ละข้อให้ครบถ้วนเพียงระดับการปฏิบัติเดียว
A11: โดยระดับปฏิบัติการ 4 = มากที่สุด , 3 = มาก , 2 = ปานกลาง และ 1 = น้อย
A12: ที่ | B12: รายการประเมิน | C12: ระดับการปฏิบัติ | G12: คะแนนที่ได้
C13: 4 | D13: 3 | E13: 2 | F13: 1
A14: 1 | B14: ชื่อหน่วยการเรียนรู้กะทัดรัด ชัดเจน ครอบคลุมเนื้อหาสาระ | C14: ü | G14: =COUNTA(C14)*$C$13+COUNTA(D14)*$D$13+COUNTA(E14)*$E$13+COUNTA(F14)*$F$13 -> 4
A15: 2 | B15: มาตรฐานการเรียนรู้/ตัวชี้วัด สมรรถนะสำคัญของนักเรียนและ | C15: ü | G15: =COUNTA(C15)*$C$13+COUNTA(D15)*$D$13+COUNTA(E15)*$E$13+COUNTA(F15)*$F$13 -> 4
B16: คุณลักษณะอันพึงประสงค์ มีความเชื่อมโยงกันอย่างเหมาะสม
A17: 3 | B17: ความสอดคล้องของสาระสำคัญกับมาตรฐานการเรียนรู้และตัวชี้วัด | C17: ü | G17: =COUNTA(C17)*$C$13+COUNTA(D17)*$D$13+COUNTA(E17)*$E$13+COUNTA(F17)*$F$13 -> 4
A18: 4 | B18: ความสอดคล้องของสาระสำคัญกับสาระการเรียนรู้ | C18: ü | G18: =COUNTA(C18)*$C$13+COUNTA(D18)*$D$13+COUNTA(E18)*$E$13+COUNTA(F18)*$F$13 -> 4
A19: 5 | B19: ความเชื่อมโยงสัมพันธ์กันระหว่างชื่อหน่วยการเรียนรู้ มาตรฐานการเรียนรู้ | C19: ü | G19: =COUNTA(C19)*$C$13+COUNTA(D19)*$D$13+COUNTA(E19)*$E$13+COUNTA(F19)*$F$13 -> 4
B20: ตัวชี้วัด สาระสำคัญและสาระการเรียนรู้
A21: 6 | B21: กิจกรรมการเรียนรู้สอดคล้องกับสาระการเรียนรู้ มาตรฐานการเรียนรู้และตัวชี้วัด | C21: ü | G21: =COUNTA(C21)*$C$13+COUNTA(D21)*$D$13+COUNTA(E21)*$E$13+COUNTA(F21)*$F$13 -> 4
A22: 7 | B22: กิจกรรมการเรียนรู้มีความครอบคลุมในการพัฒนาผู้เรียนให้มีความรู้ ทักษะ | C22: ü | G22: =COUNTA(C22)*$C$13+COUNTA(D22)*$D$13+COUNTA(E22)*$E$13+COUNTA(F22)*$F$13 -> 4
B23: กระบวนการและคุณลักษณะที่พึงประสงค์
A24: 8 | B24: กิจกรรมการเรียนรู้สามารถนำผู้เรียนไปสู่การสร้างชิ้นงานหรือภาระงาน | C24: ü | G24: =COUNTA(C24)*$C$13+COUNTA(D24)*$D$13+COUNTA(E24)*$E$13+COUNTA(F24)*$F$13 -> 4
A25: 9 | B25: มีการประเมินผลตามสภาพจริงและสอดคล้องกับมาตรฐานการเรียนรู้และตัวชี้วัด | C25: ü | G25: =COUNTA(C25)*$C$13+COUNTA(D25)*$D$13+COUNTA(E25)*$E$13+COUNTA(F25)*$F$13 -> 4
A26: 10 | B26: ประเด็นและเกณฑ์การประเมินสามารถสะท้อนคุณภาพผู้เรียนตามมาตรฐาน | C26: ü | G26: =COUNTA(C26)*$C$13+COUNTA(D26)*$D$13+COUNTA(E26)*$E$13+COUNTA(F26)*$F$13 -> 4
B27: การเรียนรู้และตัวชี้วัด
A28: 11 | B28: ความเหมาะสม เพียงพอในการกำหนดสื่อการเรียนรู้ | D28: ü | G28: =COUNTA(C28)*$C$13+COUNTA(D28)*$D$13+COUNTA(E28)*$E$13+COUNTA(F28)*$F$13 -> 3
A29: 12 | B29: หน่วยการเรียนรู้ที่จัดทำสามารถนำไปปฏิบัติได้จริง | C29: ü | G29: =COUNTA(C29)*$C$13+COUNTA(D29)*$D$13+COUNTA(E29)*$E$13+COUNTA(F29)*$F$13 -> 4
A30: สรุปผล | C30: =IF(G30>44,"ดีมาก",IF(G30>39,"ดี",IF(G30>30,"พอใช้",IF(G30>0,"ปรับปรุง")))) -> ดีมาก | G30: =SUM(G14:G29) -> 47
A42: แบบประเมินหน่วยและแผนการจัดการเรียนรู้ (หลักสูตรกลุ่มสาระประเมิน)
A43: โรงเรียนปทุมคงคา สมุทรปราการ
A44: =A6 -> หน่วยการเรียนรู้ที่ 5 ชื่อหน่วย จำนวน แผน
A45: =A7 -> รหัสวิชา ชื่อวิชา ชั้นมัธยมศึกษาปีที่
A46: =A8 -> ผู้สอน กลุ่มสาระการเรียนรู้
A48: คำชี้แจง โปรดใส่หมายเลข "1" ให้ตรงกับระดับการปฏิบัติตามรายการประเมินแต่ละข้อให้ครบถ้วนเพียงระดับการปฏิบัติเดียว
A49: โดยระดับปฏิบัติการ 4 = มากที่สุด , 3 = มาก , 2 = ปานกลาง และ 1 = น้อย
A50: ที่ | B50: รายการประเมิน | C50: ระดับการปฏิบัติ | G50: คะแนนที่ได้
C51: 4 | D51: 3 | E51: 2 | F51: 1
A52: 1 | B52: ชื่อหน่วยการเรียนรู้กะทัดรัด ชัดเจน ครอบคลุมเนื้อหาสาระ | C52: ü | G52: =COUNTA(C52)*$C$13+COUNTA(D52)*$D$13+COUNTA(E52)*$E$13+COUNTA(F52)*$F$13 -> 4
A53: 2 | B53: มาตรฐานการเรียนรู้/ตัวชี้วัด สมรรถนะสำคัญของนักเรียนและ | C53: ü | G53: =COUNTA(C53)*$C$13+COUNTA(D53)*$D$13+COUNTA(E53)*$E$13+COUNTA(F53)*$F$13 -> 4
B54: คุณลักษณะอันพึงประสงค์ มีความเชื่อมโยงกันอย่างเหมาะสม
A55: 3 | B55: ความสอดคล้องของสาระสำคัญกับมาตรฐานการเรียนรู้และตัวชี้วัด | C55: ü | G55: =COUNTA(C55)*$C$13+COUNTA(D55)*$D$13+COUNTA(E55)*$E$13+COUNTA(F55)*$F$13 -> 4
A56: 4 | B56: ความสอดคล้องของสาระสำคัญกับสาระการเรียนรู้ | C56: ü | G56: =COUNTA(C56)*$C$13+COUNTA(D56)*$D$13+COUNTA(E56)*$E$13+COUNTA(F56)*$F$13 -> 4
...

Sheet หน่วย6
A4: แบบประเมินหน่วยและแผนการจัดการเรียนรู้ (ตนเองประเมิน)
A5: โรงเรียนปทุมคงคา สมุทรปราการ
A6: ="หน่วยการเรียนรู้ที่"&" "&"6"&" "&"ชื่อหน่วย"&" "&กรุณากรอกข้อมูล!G25&" "&"จำนวน"&" "&กรุณากรอกข้อมูล!H25&" "&"แผน" -> หน่วยการเรียนรู้ที่ 6 ชื่อหน่วย จำนวน แผน
A7: ="รหัสวิชา"&" "&กรุณากรอกข้อมูล!G10&" "&"ชื่อวิชา"&" "&กรุณากรอกข้อมูล!G11&" "&" "&"ชั้นมัธยมศึกษาปีที่"&" "&กรุณากรอกข้อมูล!G12 -> รหัสวิชา ชื่อวิชา ชั้นมัธยมศึกษาปีที่
A8: ="ผู้สอน"&" "&กรุณากรอกข้อมูล!G15&" "&"กลุ่มสาระการเรียนรู้"&" "&กรุณากรอกข้อมูล!G16 -> ผู้สอน กลุ่มสาระการเรียนรู้
A10: คำชี้แจง โปรดใส่หมายเลข "1" ให้ตรงกับระดับการปฏิบัติตามรายการประเมินแต่ละข้อให้ครบถ้วนเพียงระดับการปฏิบัติเดียว
A11: โดยระดับปฏิบัติการ 4 = มากที่สุด , 3 = มาก , 2 = ปานกลาง และ 1 = น้อย
A12: ที่ | B12: รายการประเมิน | C12: ระดับการปฏิบัติ | G12: คะแนนที่ได้
C13: 4 | D13: 3 | E13: 2 | F13: 1
A14: 1 | B14: ชื่อหน่วยการเรียนรู้กะทัดรัด ชัดเจน ครอบคลุมเนื้อหาสาระ | G14: =COUNTA(C14)*$C$13+COUNTA(D14)*$D$13+COUNTA(E14)*$E$13+COUNTA(F14)*$F$13 -> 0
A15: 2 | B15: มาตรฐานการเรียนรู้/ตัวชี้วัด สมรรถนะสำคัญของนักเรียนและ | G15: =COUNTA(C15)*$C$13+COUNTA(D15)*$D$13+COUNTA(E15)*$E$13+COUNTA(F15)*$F$13 -> 0
B16: คุณลักษณะอันพึงประสงค์ มีความเชื่อมโยงกันอย่างเหมาะสม
A17: 3 | B17: ความสอดคล้องของสาระสำคัญกับมาตรฐานการเรียนรู้และตัวชี้วัด | G17: =COUNTA(C17)*$C$13+COUNTA(D17)*$D$13+COUNTA(E17)*$E$13+COUNTA(F17)*$F$13 -> 0
A18: 4 | B18: ความสอดคล้องของสาระสำคัญกับสาระการเรียนรู้ | G18: =COUNTA(C18)*$C$13+COUNTA(D18)*$D$13+COUNTA(E18)*$E$13+COUNTA(F18)*$F$13 -> 0
A19: 5 | B19: ความเชื่อมโยงสัมพันธ์กันระหว่างชื่อหน่วยการเรียนรู้ มาตรฐานการเรียนรู้ | G19: =COUNTA(C19)*$C$13+COUNTA(D19)*$D$13+COUNTA(E19)*$E$13+COUNTA(F19)*$F$13 -> 0
B20: ตัวชี้วัด สาระสำคัญและสาระการเรียนรู้
A21: 6 | B21: กิจกรรมการเรียนรู้สอดคล้องกับสาระการเรียนรู้ มาตรฐานการเรียนรู้และตัวชี้วัด | G21: =COUNTA(C21)*$C$13+COUNTA(D21)*$D$13+COUNTA(E21)*$E$13+COUNTA(F21)*$F$13 -> 0
A22: 7 | B22: กิจกรรมการเรียนรู้มีความครอบคลุมในการพัฒนาผู้เรียนให้มีความรู้ ทักษะ | G22: =COUNTA(C22)*$C$13+COUNTA(D22)*$D$13+COUNTA(E22)*$E$13+COUNTA(F22)*$F$13 -> 0
B23: กระบวนการและคุณลักษณะที่พึงประสงค์
A24: 8 | B24: กิจกรรมการเรียนรู้สามารถนำผู้เรียนไปสู่การสร้างชิ้นงานหรือภาระงาน | G24: =COUNTA(C24)*$C$13+COUNTA(D24)*$D$13+COUNTA(E24)*$E$13+COUNTA(F24)*$F$13 -> 0
A25: 9 | B25: มีการประเมินผลตามสภาพจริงและสอดคล้องกับมาตรฐานการเรียนรู้และตัวชี้วัด | G25: =COUNTA(C25)*$C$13+COUNTA(D25)*$D$13+COUNTA(E25)*$E$13+COUNTA(F25)*$F$13 -> 0
A26: 10 | B26: ประเด็นและเกณฑ์การประเมินสามารถสะท้อนคุณภาพผู้เรียนตามมาตรฐาน | G26: =COUNTA(C26)*$C$13+COUNTA(D26)*$D$13+COUNTA(E26)*$E$13+COUNTA(F26)*$F$13 -> 0
B27: การเรียนรู้และตัวชี้วัด
A28: 11 | B28: ความเหมาะสม เพียงพอในการกำหนดสื่อการเรียนรู้ | G28: =COUNTA(C28)*$C$13+COUNTA(D28)*$D$13+COUNTA(E28)*$E$13+COUNTA(F28)*$F$13 -> 0
A29: 12 | B29: หน่วยการเรียนรู้ที่จัดทำสามารถนำไปปฏิบัติได้จริง | G29: =COUNTA(C29)*$C$13+COUNTA(D29)*$D$13+COUNTA(E29)*$E$13+COUNTA(F29)*$F$13 -> 0
A30: สรุปผล | C30: =IF(G30>44,"ดีมาก",IF(G30>39,"ดี",IF(G30>30,"พอใช้",IF(G30>0,"ปรับปรุง")))) -> FALSE | G30: =SUM(G14:G29) -> 0
A42: แบบประเมินหน่วยและแผนการจัดการเรียนรู้ (หลักสูตรกลุ่มสาระประเมิน)
A43: โรงเรียนปทุมคงคา สมุทรปราการ
A44: =A6 -> หน่วยการเรียนรู้ที่ 6 ชื่อหน่วย จำนวน แผน
A45: =A7 -> รหัสวิชา ชื่อวิชา ชั้นมัธยมศึกษาปีที่
A46: =A8 -> ผู้สอน กลุ่มสาระการเรียนรู้
A48: คำชี้แจง โปรดใส่หมายเลข "1" ให้ตรงกับระดับการปฏิบัติตามรายการประเมินแต่ละข้อให้ครบถ้วนเพียงระดับการปฏิบัติเดียว
A49: โดยระดับปฏิบัติการ 4 = มากที่สุด , 3 = มาก , 2 = ปานกลาง และ 1 = น้อย
A50: ที่ | B50: รายการประเมิน | C50: ระดับการปฏิบัติ | G50: คะแนนที่ได้
C51: 4 | D51: 3 | E51: 2 | F51: 1
A52: 1 | B52: ชื่อหน่วยการเรียนรู้กะทัดรัด ชัดเจน ครอบคลุมเนื้อหาสาระ | G52: =COUNTA(C52)*$C$13+COUNTA(D52)*$D$13+COUNTA(E52)*$E$13+COUNTA(F52)*$F$13 -> 0
A53: 2 | B53: มาตรฐานการเรียนรู้/ตัวชี้วัด สมรรถนะสำคัญของนักเรียนและ | G53: =COUNTA(C53)*$C$13+COUNTA(D53)*$D$13+COUNTA(E53)*$E$13+COUNTA(F53)*$F$13 -> 0
B54: คุณลักษณะอันพึงประสงค์ มีความเชื่อมโยงกันอย่างเหมาะสม
A55: 3 | B55: ความสอดคล้องของสาระสำคัญกับมาตรฐานการเรียนรู้และตัวชี้วัด | G55: =COUNTA(C55)*$C$13+COUNTA(D55)*$D$13+COUNTA(E55)*$E$13+COUNTA(F55)*$F$13 -> 0
A56: 4 | B56: ความสอดคล้องของสาระสำคัญกับสาระการเรียนรู้ | G56: =COUNTA(C56)*$C$13+COUNTA(D56)*$D$13+COUNTA(E56)*$E$13+COUNTA(F56)*$F$13 -> 0
...

Sheet หน่วย7
A4: แบบประเมินหน่วยและแผนการจัดการเรียนรู้ (ตนเองประเมิน)
A5: โรงเรียนปทุมคงคา สมุทรปราการ
A6: ="หน่วยการเรียนรู้ที่"&" "&"7"&" "&"ชื่อหน่วย"&" "&กรุณากรอกข้อมูล!G26&" "&"จำนวน"&" "&กรุณากรอกข้อมูล!H26&" "&"แผน" -> หน่วยการเรียนรู้ที่ 7 ชื่อหน่วย จำนวน แผน
A7: ="รหัสวิชา"&" "&กรุณากรอกข้อมูล!G10&" "&"ชื่อวิชา"&" "&กรุณากรอกข้อมูล!G11&" "&" "&"ชั้นมัธยมศึกษาปีที่"&" "&กรุณากรอกข้อมูล!G12 -> รหัสวิชา ชื่อวิชา ชั้นมัธยมศึกษาปีที่
A8: ="ผู้สอน"&" "&กรุณากรอกข้อมูล!G15&" "&"กลุ่มสาระการเรียนรู้"&" "&กรุณากรอกข้อมูล!G16 -> ผู้สอน กลุ่มสาระการเรียนรู้
A10: คำชี้แจง โปรดใส่หมายเลข "1" ให้ตรงกับระดับการปฏิบัติตามรายการประเมินแต่ละข้อให้ครบถ้วนเพียงระดับการปฏิบัติเดียว
A11: โดยระดับปฏิบัติการ 4 = มากที่สุด , 3 = มาก , 2 = ปานกลาง และ 1 = น้อย
A12: ที่ | B12: รายการประเมิน | C12: ระดับการปฏิบัติ | G12: คะแนนที่ได้
C13: 4 | D13: 3 | E13: 2 | F13: 1
A14: 1 | B14: ชื่อหน่วยการเรียนรู้กะทัดรัด ชัดเจน ครอบคลุมเนื้อหาสาระ | G14: =COUNTA(C14)*$C$13+COUNTA(D14)*$D$13+COUNTA(E14)*$E$13+COUNTA(F14)*$F$13 -> 0
A15: 2 | B15: มาตรฐานการเรียนรู้/ตัวชี้วัด สมรรถนะสำคัญของนักเรียนและ | G15: =COUNTA(C15)*$C$13+COUNTA(D15)*$D$13+COUNTA(E15)*$E$13+COUNTA(F15)*$F$13 -> 0
B16: คุณลักษณะอันพึงประสงค์ มีความเชื่อมโยงกันอย่างเหมาะสม
A17: 3 | B17: ความสอดคล้องของสาระสำคัญกับมาตรฐานการเรียนรู้และตัวชี้วัด | G17: =COUNTA(C17)*$C$13+COUNTA(D17)*$D$13+COUNTA(E17)*$E$13+COUNTA(F17)*$F$13 -> 0
A18: 4 | B18: ความสอดคล้องของสาระสำคัญกับสาระการเรียนรู้ | G18: =COUNTA(C18)*$C$13+COUNTA(D18)*$D$13+COUNTA(E18)*$E$13+COUNTA(F18)*$F$13 -> 0
A19: 5 | B19: ความเชื่อมโยงสัมพันธ์กันระหว่างชื่อหน่วยการเรียนรู้ มาตรฐานการเรียนรู้ | G19: =COUNTA(C19)*$C$13+COUNTA(D19)*$D$13+COUNTA(E19)*$E$13+COUNTA(F19)*$F$13 -> 0
B20: ตัวชี้วัด สาระสำคัญและสาระการเรียนรู้
A21: 6 | B21: กิจกรรมการเรียนรู้สอดคล้องกับสาระการเรียนรู้ มาตรฐานการเรียนรู้และตัวชี้วัด | G21: =COUNTA(C21)*$C$13+COUNTA(D21)*$D$13+COUNTA(E21)*$E$13+COUNTA(F21)*$F$13 -> 0
A22: 7 | B22: กิจกรรมการเรียนรู้มีความครอบคลุมในการพัฒนาผู้เรียนให้มีความรู้ ทักษะ | G22: =COUNTA(C22)*$C$13+COUNTA(D22)*$D$13+COUNTA(E22)*$E$13+COUNTA(F22)*$F$13 -> 0
B23: กระบวนการและคุณลักษณะที่พึงประสงค์
A24: 8 | B24: กิจกรรมการเรียนรู้สามารถนำผู้เรียนไปสู่การสร้างชิ้นงานหรือภาระงาน | G24: =COUNTA(C24)*$C$13+COUNTA(D24)*$D$13+COUNTA(E24)*$E$13+COUNTA(F24)*$F$13 -> 0
A25: 9 | B25: มีการประเมินผลตามสภาพจริงและสอดคล้องกับมาตรฐานการเรียนรู้และตัวชี้วัด | G25: =COUNTA(C25)*$C$13+COUNTA(D25)*$D$13+COUNTA(E25)*$E$13+COUNTA(F25)*$F$13 -> 0
A26: 10 | B26: ประเด็นและเกณฑ์การประเมินสามารถสะท้อนคุณภาพผู้เรียนตามมาตรฐาน | G26: =COUNTA(C26)*$C$13+COUNTA(D26)*$D$13+COUNTA(E26)*$E$13+COUNTA(F26)*$F$13 -> 0
B27: การเรียนรู้และตัวชี้วัด
A28: 11 | B28: ความเหมาะสม เพียงพอในการกำหนดสื่อการเรียนรู้ | G28: =COUNTA(C28)*$C$13+COUNTA(D28)*$D$13+COUNTA(E28)*$E$13+COUNTA(F28)*$F$13 -> 0
A29: 12 | B29: หน่วยการเรียนรู้ที่จัดทำสามารถนำไปปฏิบัติได้จริง | G29: =COUNTA(C29)*$C$13+COUNTA(D29)*$D$13+COUNTA(E29)*$E$13+COUNTA(F29)*$F$13 -> 0
A30: สรุปผล | C30: =IF(G30>44,"ดีมาก",IF(G30>39,"ดี",IF(G30>30,"พอใช้",IF(G30>0,"ปรับปรุง")))) -> FALSE | G30: =SUM(G14:G29) -> 0
A42: แบบประเมินหน่วยและแผนการจัดการเรียนรู้ (หลักสูตรกลุ่มสาระประเมิน)
A43: โรงเรียนปทุมคงคา สมุทรปราการ
A44: =A6 -> หน่วยการเรียนรู้ที่ 7 ชื่อหน่วย จำนวน แผน
A45: =A7 -> รหัสวิชา ชื่อวิชา ชั้นมัธยมศึกษาปีที่
A46: =A8 -> ผู้สอน กลุ่มสาระการเรียนรู้
A48: คำชี้แจง โปรดใส่หมายเลข "1" ให้ตรงกับระดับการปฏิบัติตามรายการประเมินแต่ละข้อให้ครบถ้วนเพียงระดับการปฏิบัติเดียว
A49: โดยระดับปฏิบัติการ 4 = มากที่สุด , 3 = มาก , 2 = ปานกลาง และ 1 = น้อย
A50: ที่ | B50: รายการประเมิน | C50: ระดับการปฏิบัติ | G50: คะแนนที่ได้
C51: 4 | D51: 3 | E51: 2 | F51: 1
A52: 1 | B52: ชื่อหน่วยการเรียนรู้กะทัดรัด ชัดเจน ครอบคลุมเนื้อหาสาระ | G52: =COUNTA(C52)*$C$13+COUNTA(D52)*$D$13+COUNTA(E52)*$E$13+COUNTA(F52)*$F$13 -> 0
A53: 2 | B53: มาตรฐานการเรียนรู้/ตัวชี้วัด สมรรถนะสำคัญของนักเรียนและ | G53: =COUNTA(C53)*$C$13+COUNTA(D53)*$D$13+COUNTA(E53)*$E$13+COUNTA(F53)*$F$13 -> 0
B54: คุณลักษณะอันพึงประสงค์ มีความเชื่อมโยงกันอย่างเหมาะสม
A55: 3 | B55: ความสอดคล้องของสาระสำคัญกับมาตรฐานการเรียนรู้และตัวชี้วัด | G55: =COUNTA(C55)*$C$13+COUNTA(D55)*$D$13+COUNTA(E55)*$E$13+COUNTA(F55)*$F$13 -> 0
A56: 4 | B56: ความสอดคล้องของสาระสำคัญกับสาระการเรียนรู้ | G56: =COUNTA(C56)*$C$13+COUNTA(D56)*$D$13+COUNTA(E56)*$E$13+COUNTA(F56)*$F$13 -> 0
...

Sheet หน่วย8
A4: แบบประเมินหน่วยและแผนการจัดการเรียนรู้ (ตนเองประเมิน)
A5: โรงเรียนปทุมคงคา สมุทรปราการ
A6: ="หน่วยการเรียนรู้ที่"&" "&"8"&" "&"ชื่อหน่วย"&" "&กรุณากรอกข้อมูล!G27&" "&"จำนวน"&" "&กรุณากรอกข้อมูล!H27&" "&"แผน" -> หน่วยการเรียนรู้ที่ 8 ชื่อหน่วย จำนวน แผน
A7: ="รหัสวิชา"&" "&กรุณากรอกข้อมูล!G10&" "&"ชื่อวิชา"&" "&กรุณากรอกข้อมูล!G11&" "&" "&"ชั้นมัธยมศึกษาปีที่"&" "&กรุณากรอกข้อมูล!G12 -> รหัสวิชา ชื่อวิชา ชั้นมัธยมศึกษาปีที่
A8: ="ผู้สอน"&" "&กรุณากรอกข้อมูล!G15&" "&"กลุ่มสาระการเรียนรู้"&" "&กรุณากรอกข้อมูล!G16 -> ผู้สอน กลุ่มสาระการเรียนรู้
A10: คำชี้แจง โปรดใส่หมายเลข "1" ให้ตรงกับระดับการปฏิบัติตามรายการประเมินแต่ละข้อให้ครบถ้วนเพียงระดับการปฏิบัติเดียว
A11: โดยระดับปฏิบัติการ 4 = มากที่สุด , 3 = มาก , 2 = ปานกลาง และ 1 = น้อย
A12: ที่ | B12: รายการประเมิน | C12: ระดับการปฏิบัติ | G12: คะแนนที่ได้
C13: 4 | D13: 3 | E13: 2 | F13: 1
A14: 1 | B14: ชื่อหน่วยการเรียนรู้กะทัดรัด ชัดเจน ครอบคลุมเนื้อหาสาระ | G14: =COUNTA(C14)*$C$13+COUNTA(D14)*$D$13+COUNTA(E14)*$E$13+COUNTA(F14)*$F$13 -> 0
A15: 2 | B15: มาตรฐานการเรียนรู้/ตัวชี้วัด สมรรถนะสำคัญของนักเรียนและ | G15: =COUNTA(C15)*$C$13+COUNTA(D15)*$D$13+COUNTA(E15)*$E$13+COUNTA(F15)*$F$13 -> 0
B16: คุณลักษณะอันพึงประสงค์ มีความเชื่อมโยงกันอย่างเหมาะสม
A17: 3 | B17: ความสอดคล้องของสาระสำคัญกับมาตรฐานการเรียนรู้และตัวชี้วัด | G17: =COUNTA(C17)*$C$13+COUNTA(D17)*$D$13+COUNTA(E17)*$E$13+COUNTA(F17)*$F$13 -> 0
A18: 4 | B18: ความสอดคล้องของสาระสำคัญกับสาระการเรียนรู้ | G18: =COUNTA(C18)*$C$13+COUNTA(D18)*$D$13+COUNTA(E18)*$E$13+COUNTA(F18)*$F$13 -> 0
A19: 5 | B19: ความเชื่อมโยงสัมพันธ์กันระหว่างชื่อหน่วยการเรียนรู้ มาตรฐานการเรียนรู้ | G19: =COUNTA(C19)*$C$13+COUNTA(D19)*$D$13+COUNTA(E19)*$E$13+COUNTA(F19)*$F$13 -> 0
B20: ตัวชี้วัด สาระสำคัญและสาระการเรียนรู้
A21: 6 | B21: กิจกรรมการเรียนรู้สอดคล้องกับสาระการเรียนรู้ มาตรฐานการเรียนรู้และตัวชี้วัด | G21: =COUNTA(C21)*$C$13+COUNTA(D21)*$D$13+COUNTA(E21)*$E$13+COUNTA(F21)*$F$13 -> 0
A22: 7 | B22: กิจกรรมการเรียนรู้มีความครอบคลุมในการพัฒนาผู้เรียนให้มีความรู้ ทักษะ | G22: =COUNTA(C22)*$C$13+COUNTA(D22)*$D$13+COUNTA(E22)*$E$13+COUNTA(F22)*$F$13 -> 0
B23: กระบวนการและคุณลักษณะที่พึงประสงค์
A24: 8 | B24: กิจกรรมการเรียนรู้สามารถนำผู้เรียนไปสู่การสร้างชิ้นงานหรือภาระงาน | G24: =COUNTA(C24)*$C$13+COUNTA(D24)*$D$13+COUNTA(E24)*$E$13+COUNTA(F24)*$F$13 -> 0
A25: 9 | B25: มีการประเมินผลตามสภาพจริงและสอดคล้องกับมาตรฐานการเรียนรู้และตัวชี้วัด | G25: =COUNTA(C25)*$C$13+COUNTA(D25)*$D$13+COUNTA(E25)*$E$13+COUNTA(F25)*$F$13 -> 0
A26: 10 | B26: ประเด็นและเกณฑ์การประเมินสามารถสะท้อนคุณภาพผู้เรียนตามมาตรฐาน | G26: =COUNTA(C26)*$C$13+COUNTA(D26)*$D$13+COUNTA(E26)*$E$13+COUNTA(F26)*$F$13 -> 0
B27: การเรียนรู้และตัวชี้วัด
A28: 11 | B28: ความเหมาะสม เพียงพอในการกำหนดสื่อการเรียนรู้ | G28: =COUNTA(C28)*$C$13+COUNTA(D28)*$D$13+COUNTA(E28)*$E$13+COUNTA(F28)*$F$13 -> 0
A29: 12 | B29: หน่วยการเรียนรู้ที่จัดทำสามารถนำไปปฏิบัติได้จริง | G29: =COUNTA(C29)*$C$13+COUNTA(D29)*$D$13+COUNTA(E29)*$E$13+COUNTA(F29)*$F$13 -> 0
A30: สรุปผล | C30: =IF(G30>44,"ดีมาก",IF(G30>39,"ดี",IF(G30>30,"พอใช้",IF(G30>0,"ปรับปรุง")))) -> FALSE | G30: =SUM(G14:G29) -> 0
A42: แบบประเมินหน่วยและแผนการจัดการเรียนรู้ (หลักสูตรกลุ่มสาระประเมิน)
A43: โรงเรียนปทุมคงคา สมุทรปราการ
A44: =A6 -> หน่วยการเรียนรู้ที่ 8 ชื่อหน่วย จำนวน แผน
A45: =A7 -> รหัสวิชา ชื่อวิชา ชั้นมัธยมศึกษาปีที่
A46: =A8 -> ผู้สอน กลุ่มสาระการเรียนรู้
A48: คำชี้แจง โปรดใส่หมายเลข "1" ให้ตรงกับระดับการปฏิบัติตามรายการประเมินแต่ละข้อให้ครบถ้วนเพียงระดับการปฏิบัติเดียว
A49: โดยระดับปฏิบัติการ 4 = มากที่สุด , 3 = มาก , 2 = ปานกลาง และ 1 = น้อย
A50: ที่ | B50: รายการประเมิน | C50: ระดับการปฏิบัติ | G50: คะแนนที่ได้
C51: 4 | D51: 3 | E51: 2 | F51: 1
A52: 1 | B52: ชื่อหน่วยการเรียนรู้กะทัดรัด ชัดเจน ครอบคลุมเนื้อหาสาระ | G52: =COUNTA(C52)*$C$13+COUNTA(D52)*$D$13+COUNTA(E52)*$E$13+COUNTA(F52)*$F$13 -> 0
A53: 2 | B53: มาตรฐานการเรียนรู้/ตัวชี้วัด สมรรถนะสำคัญของนักเรียนและ | G53: =COUNTA(C53)*$C$13+COUNTA(D53)*$D$13+COUNTA(E53)*$E$13+COUNTA(F53)*$F$13 -> 0
B54: คุณลักษณะอันพึงประสงค์ มีความเชื่อมโยงกันอย่างเหมาะสม
A55: 3 | B55: ความสอดคล้องของสาระสำคัญกับมาตรฐานการเรียนรู้และตัวชี้วัด | G55: =COUNTA(C55)*$C$13+COUNTA(D55)*$D$13+COUNTA(E55)*$E$13+COUNTA(F55)*$F$13 -> 0
A56: 4 | B56: ความสอดคล้องของสาระสำคัญกับสาระการเรียนรู้ | G56: =COUNTA(C56)*$C$13+COUNTA(D56)*$D$13+COUNTA(E56)*$E$13+COUNTA(F56)*$F$13 -> 0
...

Sheet สรุป
A4: สรุปการประเมินผลการจัดทำหน่วยการเรียนรู้
A5: โรงเรียนปทุมคงคา สมุทรปราการ
A6: =หน่วย8!A7 -> รหัสวิชา ชื่อวิชา ชั้นมัธยมศึกษาปีที่
A7: ="ภาคเรียนที่"&" "&กรุณากรอกข้อมูล!G13&" "&"ปีการศึกษา"&" "&กรุณากรอกข้อมูล!G14 -> ภาคเรียนที่ ปีการศึกษา
A8: =หน่วย8!A8 -> ผู้สอน กลุ่มสาระการเรียนรู้
A10: หน่วยการเรียนรู้ | C10: ค่าเฉลี่ยของผู้ประเมิน | F10: ค่าเฉลี่ย | G10: แปลผล
C11: คนที่ 1 | D11: คนที่ 2 | E11: คนที่ 3
A12: =IF(COUNTIF(C12," ")=1," ",IF(COUNTIF(C12," ")=0,"หน่วยการเรียนรู้ที่")) -> หน่วยการเรียนรู้ที่ | B12: =IF(COUNTIF(C12," ")=1," ",IF(COUNTIF(C12," ")=0,"1")) -> 1 | C12: =IF(หน่วย1!G30=0," ",IF(หน่วย1!G30>0,หน่วย1!G30)) -> 47 | D12: =IF(หน่วย1!G65=0," ",IF(หน่วย1!G65>0,หน่วย1!G65)) -> 48 | E12: =IF(หน่วย1!G100=0," ",IF(หน่วย1!G100>0,หน่วย1!G100)) -> 47 | F12: =IF(C12=" "," ",IF(C12>0,AVERAGE(C12:E12))) -> 47.333333 | G12: =IF(F12=" "," ",IF(F12>0,IF(F12>3.5,"ดีมาก",IF(F12>3.5,"ดี",IF(F12>1.5,"ปานกลาง",IF(F12>0.5,"พอใช้",IF(F12>0,"ปรับปรุง",IF(F12<=0," ")))))))) -> ดีมาก
A13: =IF(COUNTIF(C13," ")=1," ",IF(COUNTIF(C13," ")=0,"หน่วยการเรียนรู้ที่")) -> หน่วยการเรียนรู้ที่ | B13: =IF(COUNTIF(C13," ")=1," ",IF(COUNTIF(C13," ")=0,"2")) -> 2 | C13: =IF(หน่วย2!G30=0," ",IF(หน่วย2!G30>0,หน่วย2!G30)) -> 46 | D13: =IF(หน่วย2!G68=0," ",IF(หน่วย2!G68>0,หน่วย2!G68)) -> 46 | E13: =IF(หน่วย2!G106=0," ",IF(หน่วย2!G106>0,หน่วย2!G106)) -> 47 | F13: =IF(C13=" "," ",IF(C13>0,AVERAGE(C13:E13))) -> 46.333333 | G13: =IF(F13=" "," ",IF(F13>0,IF(F13>3.5,"ดีมาก",IF(F13>3.5,"ดี",IF(F13>1.5,"ปานกลาง",IF(F13>0.5,"พอใช้",IF(F13>0,"ปรับปรุง",IF(F13<=0," ")))))))) -> ดีมาก
A14: =IF(COUNTIF(C14," ")=1," ",IF(COUNTIF(C14," ")=0,"หน่วยการเรียนรู้ที่")) -> หน่วยการเรียนรู้ที่ | B14: =IF(COUNTIF(C14," ")=1," ",IF(COUNTIF(C14," ")=0,"3")) -> 3 | C14: =IF(หน่วย3!G30=0," ",IF(หน่วย3!G30>0,หน่วย3!G30)) -> 45 | D14: =IF(หน่วย3!G68=0," ",IF(หน่วย3!G68>0,หน่วย3!G68)) -> 47 | E14: =IF(หน่วย3!G106=0," ",IF(หน่วย3!G106>0,หน่วย3!G106)) -> 48 | F14: =IF(C14=" "," ",IF(C14>0,AVERAGE(C14:E14))) -> 46.666667 | G14: =IF(F14=" "," ",IF(F14>0,IF(F14>3.5,"ดีมาก",IF(F14>3.5,"ดี",IF(F14>1.5,"ปานกลาง",IF(F14>0.5,"พอใช้",IF(F14>0,"ปรับปรุง",IF(F14<=0," ")))))))) -> ดีมาก
A15: =IF(COUNTIF(C15," ")=1," ",IF(COUNTIF(C15," ")=0,"หน่วยการเรียนรู้ที่")) -> หน่วยการเรียนรู้ที่ | B15: =IF(COUNTIF(C15," ")=1," ",IF(COUNTIF(C15," ")=0,"4")) -> 4 | C15: =IF(หน่วย4!G30=0," ",IF(หน่วย4!G30>0,หน่วย4!G30)) -> 47 | D15: =IF(หน่วย4!G64=0," ",IF(หน่วย4!G64>0,หน่วย4!G64)) -> 45 | E15: =IF(หน่วย4!G98=0," ",IF(หน่วย4!G98>0,หน่วย4!G98)) -> 48 | F15: =IF(C15=" "," ",IF(C15>0,AVERAGE(C15:E15))) -> 46.666667 | G15: =IF(F15=" "," ",IF(F15>0,IF(F15>3.5,"ดีมาก",IF(F15>3.5,"ดี",IF(F15>1.5,"ปานกลาง",IF(F15>0.5,"พอใช้",IF(F15>0,"ปรับปรุง",IF(F15<=0," ")))))))) -> ดีมาก
A16: =IF(COUNTIF(C16," ")=1," ",IF(COUNTIF(C16," ")=0,"หน่วยการเรียนรู้ที่")) -> หน่วยการเรียนรู้ที่ | B16: =IF(COUNTIF(C16," ")=1," ",IF(COUNTIF(C16," ")=0,"5")) -> 5 | C16: =IF(หน่วย5!G30=0," ",IF(หน่วย5!G30>0,หน่วย5!G30)) -> 47 | D16: =IF(หน่วย5!G68=0," ",IF(หน่วย5!G68>0,หน่วย5!G68)) -> 47 | E16: =IF(หน่วย5!G106=0," ",IF(หน่วย5!G106>0,หน่วย5!G106)) -> 47 | F16: =IF(C16=" "," ",IF(C16>0,AVERAGE(C16:E16))) -> 47 | G16: =IF(F16=" "," ",IF(F16>0,IF(F16>3.5,"ดีมาก",IF(F16>3.5,"ดี",IF(F16>1.5,"ปานกลาง",IF(F16>0.5,"พอใช้",IF(F16>0,"ปรับปรุง",IF(F16<=0," ")))))))) -> ดีมาก
A17: =IF(COUNTIF(C17," ")=1," ",IF(COUNTIF(C17," ")=0,"หน่วยการเรียนรู้ที่")) | B17: =IF(COUNTIF(C17," ")=1," ",IF(COUNTIF(C17," ")=0,"6")) | C17: =IF(หน่วย6!G30=0," ",IF(หน่วย6!G30>0,หน่วย6!G30)) | D17: =IF(หน่วย6!G68=0," ",IF(หน่วย6!G68>0,หน่วย6!G68)) | E17: =IF(หน่วย6!G106=0," ",IF(หน่วย6!G106>0,หน่วย6!G106)) | F17: =IF(C17=" "," ",IF(C17>0,AVERAGE(C17:E17))) | G17: =IF(F17=" "," ",IF(F17>0,IF(F17>3.5,"ดีมาก",IF(F17>3.5,"ดี",IF(F17>1.5,"ปานกลาง",IF(F17>0.5,"พอใช้",IF(F17>0,"ปรับปรุง",IF(F17<=0," "))))))))
A18: =IF(COUNTIF(C18," ")=1," ",IF(COUNTIF(C18," ")=0,"หน่วยการเรียนรู้ที่")) | B18: =IF(COUNTIF(C18," ")=1," ",IF(COUNTIF(C18," ")=0,"7")) | C18: =IF(หน่วย7!G30=0," ",IF(หน่วย7!G30>0,หน่วย7!G30)) | D18: =IF(หน่วย7!G68=0," ",IF(หน่วย7!G68>0,หน่วย7!G68)) | E18: =IF(หน่วย7!G106=0," ",IF(หน่วย7!G106>0,หน่วย7!G106)) | F18: =IF(C18=" "," ",IF(C18>0,AVERAGE(C18:E18))) | G18: =IF(F18=" "," ",IF(F18>0,IF(F18>3.5,"ดีมาก",IF(F18>3.5,"ดี",IF(F18>1.5,"ปานกลาง",IF(F18>0.5,"พอใช้",IF(F18>0,"ปรับปรุง",IF(F18<=0," "))))))))
A19: =IF(COUNTIF(C19," ")=1," ",IF(COUNTIF(C19," ")=0,"หน่วยการเรียนรู้ที่")) | B19: =IF(COUNTIF(C19," ")=1," ",IF(COUNTIF(C19," ")=0,"8")) | C19: =IF(หน่วย8!G30=0," ",IF(หน่วย8!G30>0,หน่วย8!G30)) | D19: =IF(หน่วย8!G68=0," ",IF(หน่วย8!G68>0,หน่วย8!G68)) | E19: =IF(หน่วย8!G106=0," ",IF(หน่วย8!G106>0,หน่วย8!G106)) | F19: =IF(C19=" "," ",IF(C19>0,AVERAGE(C19:E19))) | G19: =IF(F19=" "," ",IF(F19>0,IF(F19>3.5,"ดีมาก",IF(F19>3.5,"ดี",IF(F19>1.5,"ปานกลาง",IF(F19>0.5,"พอใช้",IF(F19>0,"ปรับปรุง",IF(F19<=0," "))))))))
A20: สรุปผล | F20: =IF(F12=" "," ",IF(F12>0,AVERAGE(F12:F19))) -> 46.8 | G20: =IF(F20=" "," ",IF(F20>0,IF(F20>3.5,"ดีมาก",IF(F20>3.5,"ดี",IF(F20>1.5,"ปานกลาง",IF(F20>0.5,"พอใช้",IF(F20>0,"ปรับปรุง",IF(F20<=0," ")))))))) -> ดีมาก

Sheet ฐานข้อมูล
A1: ü | B1: 1 | C1: ภาษาไทย
B2: 2 | C2: คณิตศาสตร์
B3: 3 | C3: วิทยาศาสตร์และเทคโนโลยี
B4: 4 | C4: สังคมศึกษาศาสนาและวัฒนธรรม
B5: 5 | C5: สุขศึกษาและพลศึกษา
B6: 6 | C6: ศิลปะ
C7: การงานอาชีพ
C8: ภาษาต่างประเทศ
C9: กิจกรรมพัฒนาผู้เรียน
